BEGIN:VCALENDAR
VERSION:2.0
PRODID:-//wp-events-plugin.com//7.2.3.1//EN
TZID:Europe/Berlin
X-WR-TIMEZONE:Europe/Berlin
BEGIN:VEVENT
UID:9@ks-karben.de
DTSTART:20240726T000000Z
DTEND:20240728T000000Z
DTSTAMP:20240429T192715Z
URL:https://ks-karben.de/events/1-grs-open-ober-ramstadt/
SUMMARY:1.GRS-Open Ober-Ramstadt
DESCRIPTION:An 3 Tagen\, Freitag - Sonntag\, allgemein offenes 5-rundiges S
 chachturnier nach beschleunigtem Schweizer System mit DWZ- und ELO- Auswer
 tung\, garantierter Preisfonds:&nbsp\;8.800 €!\n\nSpielort: Am Lohberg 4
 0 in 64372 Ober-Ramstadt.\n\n&nbsp\;
CATEGORIES:FIDE &amp; Welt,Open
LOCATION:https://grs-open.de
END:VEVENT
END:VCALENDAR